BEGIN:VCALENDAR
VERSION:2.0
PRODID:-//Kinderhook Memorial Library - ECPv6.15.20//NONSGML v1.0//EN
CALSCALE:GREGORIAN
METHOD:PUBLISH
X-ORIGINAL-URL:https://kinderhooklibrary.org
X-WR-CALDESC:Events for Kinderhook Memorial Library
REFRESH-INTERVAL;VALUE=DURATION:PT1H
X-Robots-Tag:noindex
X-PUBLISHED-TTL:PT1H
BEGIN:VTIMEZONE
TZID:America/New_York
BEGIN:DAYLIGHT
TZOFFSETFROM:-0500
TZOFFSETTO:-0400
TZNAME:EDT
DTSTART:20260308T070000
END:DAYLIGHT
BEGIN:STANDARD
TZOFFSETFROM:-0400
TZOFFSETTO:-0500
TZNAME:EST
DTSTART:20261101T060000
END:STANDARD
BEGIN:DAYLIGHT
TZOFFSETFROM:-0500
TZOFFSETTO:-0400
TZNAME:EDT
DTSTART:20270314T070000
END:DAYLIGHT
BEGIN:STANDARD
TZOFFSETFROM:-0400
TZOFFSETTO:-0500
TZNAME:EST
DTSTART:20271107T060000
END:STANDARD
BEGIN:DAYLIGHT
TZOFFSETFROM:-0500
TZOFFSETTO:-0400
TZNAME:EDT
DTSTART:20280312T070000
END:DAYLIGHT
BEGIN:STANDARD
TZOFFSETFROM:-0400
TZOFFSETTO:-0500
TZNAME:EST
DTSTART:20281105T060000
END:STANDARD
BEGIN:DAYLIGHT
TZOFFSETFROM:-0500
TZOFFSETTO:-0400
TZNAME:EDT
DTSTART:20290311T070000
END:DAYLIGHT
BEGIN:STANDARD
TZOFFSETFROM:-0400
TZOFFSETTO:-0500
TZNAME:EST
DTSTART:20291104T060000
END:STANDARD
END:VTIMEZONE
BEGIN:VEVENT
DTSTART;TZID=America/New_York:20271203T103000
DTEND;TZID=America/New_York:20271203T110000
DTSTAMP:20260421T052240
CREATED:20251016T160154Z
LAST-MODIFIED:20260416T193659Z
UID:10002634-1827829800-1827831600@kinderhooklibrary.org
SUMMARY:Art Focus Fridays
DESCRIPTION:We will explore a new art medium every week including watercolors\, clay\, fingerpaints\, paper crafts and more! This program has the potential to be messy so please dress little ones in clothes you don’t mind getting dirty! Best for toddlers and pre-schoolers!
URL:https://kinderhooklibrary.org/event/art-focus-fridays-2-2/2027-12-03/
LOCATION:Kinderhook Memorial Library\, 18 Hudson Street\, Kinderhook\, NY\, 12106\, United States
CATEGORIES:Kids
ATTACH;FMTTYPE=image/png:https://kinderhooklibrary.org/wp-content/uploads/2025/12/Copy-of-PlaygroupOctober-300-x-300-px-1080-x-1080-px.png
ORGANIZER;CN="Kinderhook Memorial Library":MAILTO:info@kinderhooklibrary.org
END:VEVENT
BEGIN:VEVENT
DTSTART;TZID=America/New_York:20271209T103000
DTEND;TZID=America/New_York:20271209T120000
DTSTAMP:20260421T052240
CREATED:20231215T200848Z
LAST-MODIFIED:20251223T173612Z
UID:10002376-1828348200-1828353600@kinderhooklibrary.org
SUMMARY:Family Story Time
DESCRIPTION:Join Mandy for stories and songs! All ages welcome!\nPlease note that we do Story Time at 10:30 AND 11:30 am (and not from 10:30 to 12:00\, just to be clear\, thank you!)
URL:https://kinderhooklibrary.org/event/family-story-time/2027-12-09/
LOCATION:Kinderhook Memorial Library\, 18 Hudson Street\, Kinderhook\, NY\, 12106\, United States
CATEGORIES:Kids
ATTACH;FMTTYPE=image/png:https://kinderhooklibrary.org/wp-content/uploads/2025/12/Copy-of-Copy-of-Story-time.png
ORGANIZER;CN="Kinderhook Memorial Library":MAILTO:info@kinderhooklibrary.org
END:VEVENT
BEGIN:VEVENT
DTSTART;TZID=America/New_York:20271210T103000
DTEND;TZID=America/New_York:20271210T110000
DTSTAMP:20260421T052240
CREATED:20251016T160154Z
LAST-MODIFIED:20260416T193659Z
UID:10002635-1828434600-1828436400@kinderhooklibrary.org
SUMMARY:Art Focus Fridays
DESCRIPTION:We will explore a new art medium every week including watercolors\, clay\, fingerpaints\, paper crafts and more! This program has the potential to be messy so please dress little ones in clothes you don’t mind getting dirty! Best for toddlers and pre-schoolers!
URL:https://kinderhooklibrary.org/event/art-focus-fridays-2-2/2027-12-10/
LOCATION:Kinderhook Memorial Library\, 18 Hudson Street\, Kinderhook\, NY\, 12106\, United States
CATEGORIES:Kids
ATTACH;FMTTYPE=image/png:https://kinderhooklibrary.org/wp-content/uploads/2025/12/Copy-of-PlaygroupOctober-300-x-300-px-1080-x-1080-px.png
ORGANIZER;CN="Kinderhook Memorial Library":MAILTO:info@kinderhooklibrary.org
END:VEVENT
BEGIN:VEVENT
DTSTART;TZID=America/New_York:20271216T103000
DTEND;TZID=America/New_York:20271216T120000
DTSTAMP:20260421T052240
CREATED:20231215T200848Z
LAST-MODIFIED:20251223T173612Z
UID:10002377-1828953000-1828958400@kinderhooklibrary.org
SUMMARY:Family Story Time
DESCRIPTION:Join Mandy for stories and songs! All ages welcome!\nPlease note that we do Story Time at 10:30 AND 11:30 am (and not from 10:30 to 12:00\, just to be clear\, thank you!)
URL:https://kinderhooklibrary.org/event/family-story-time/2027-12-16/
LOCATION:Kinderhook Memorial Library\, 18 Hudson Street\, Kinderhook\, NY\, 12106\, United States
CATEGORIES:Kids
ATTACH;FMTTYPE=image/png:https://kinderhooklibrary.org/wp-content/uploads/2025/12/Copy-of-Copy-of-Story-time.png
ORGANIZER;CN="Kinderhook Memorial Library":MAILTO:info@kinderhooklibrary.org
END:VEVENT
BEGIN:VEVENT
DTSTART;TZID=America/New_York:20271217T103000
DTEND;TZID=America/New_York:20271217T110000
DTSTAMP:20260421T052240
CREATED:20251016T160154Z
LAST-MODIFIED:20260416T193659Z
UID:10002636-1829039400-1829041200@kinderhooklibrary.org
SUMMARY:Art Focus Fridays
DESCRIPTION:We will explore a new art medium every week including watercolors\, clay\, fingerpaints\, paper crafts and more! This program has the potential to be messy so please dress little ones in clothes you don’t mind getting dirty! Best for toddlers and pre-schoolers!
URL:https://kinderhooklibrary.org/event/art-focus-fridays-2-2/2027-12-17/
LOCATION:Kinderhook Memorial Library\, 18 Hudson Street\, Kinderhook\, NY\, 12106\, United States
CATEGORIES:Kids
ATTACH;FMTTYPE=image/png:https://kinderhooklibrary.org/wp-content/uploads/2025/12/Copy-of-PlaygroupOctober-300-x-300-px-1080-x-1080-px.png
ORGANIZER;CN="Kinderhook Memorial Library":MAILTO:info@kinderhooklibrary.org
END:VEVENT
BEGIN:VEVENT
DTSTART;TZID=America/New_York:20271223T103000
DTEND;TZID=America/New_York:20271223T120000
DTSTAMP:20260421T052240
CREATED:20231215T200848Z
LAST-MODIFIED:20251223T173612Z
UID:10002378-1829557800-1829563200@kinderhooklibrary.org
SUMMARY:Family Story Time
DESCRIPTION:Join Mandy for stories and songs! All ages welcome!\nPlease note that we do Story Time at 10:30 AND 11:30 am (and not from 10:30 to 12:00\, just to be clear\, thank you!)
URL:https://kinderhooklibrary.org/event/family-story-time/2027-12-23/
LOCATION:Kinderhook Memorial Library\, 18 Hudson Street\, Kinderhook\, NY\, 12106\, United States
CATEGORIES:Kids
ATTACH;FMTTYPE=image/png:https://kinderhooklibrary.org/wp-content/uploads/2025/12/Copy-of-Copy-of-Story-time.png
ORGANIZER;CN="Kinderhook Memorial Library":MAILTO:info@kinderhooklibrary.org
END:VEVENT
BEGIN:VEVENT
DTSTART;TZID=America/New_York:20271224T103000
DTEND;TZID=America/New_York:20271224T110000
DTSTAMP:20260421T052240
CREATED:20251016T160154Z
LAST-MODIFIED:20260416T193659Z
UID:10002637-1829644200-1829646000@kinderhooklibrary.org
SUMMARY:Art Focus Fridays
DESCRIPTION:We will explore a new art medium every week including watercolors\, clay\, fingerpaints\, paper crafts and more! This program has the potential to be messy so please dress little ones in clothes you don’t mind getting dirty! Best for toddlers and pre-schoolers!
URL:https://kinderhooklibrary.org/event/art-focus-fridays-2-2/2027-12-24/
LOCATION:Kinderhook Memorial Library\, 18 Hudson Street\, Kinderhook\, NY\, 12106\, United States
CATEGORIES:Kids
ATTACH;FMTTYPE=image/png:https://kinderhooklibrary.org/wp-content/uploads/2025/12/Copy-of-PlaygroupOctober-300-x-300-px-1080-x-1080-px.png
ORGANIZER;CN="Kinderhook Memorial Library":MAILTO:info@kinderhooklibrary.org
END:VEVENT
BEGIN:VEVENT
DTSTART;TZID=America/New_York:20271230T103000
DTEND;TZID=America/New_York:20271230T120000
DTSTAMP:20260421T052240
CREATED:20231215T200848Z
LAST-MODIFIED:20251223T173612Z
UID:10002379-1830162600-1830168000@kinderhooklibrary.org
SUMMARY:Family Story Time
DESCRIPTION:Join Mandy for stories and songs! All ages welcome!\nPlease note that we do Story Time at 10:30 AND 11:30 am (and not from 10:30 to 12:00\, just to be clear\, thank you!)
URL:https://kinderhooklibrary.org/event/family-story-time/2027-12-30/
LOCATION:Kinderhook Memorial Library\, 18 Hudson Street\, Kinderhook\, NY\, 12106\, United States
CATEGORIES:Kids
ATTACH;FMTTYPE=image/png:https://kinderhooklibrary.org/wp-content/uploads/2025/12/Copy-of-Copy-of-Story-time.png
ORGANIZER;CN="Kinderhook Memorial Library":MAILTO:info@kinderhooklibrary.org
END:VEVENT
BEGIN:VEVENT
DTSTART;TZID=America/New_York:20271231T103000
DTEND;TZID=America/New_York:20271231T110000
DTSTAMP:20260421T052240
CREATED:20251016T160154Z
LAST-MODIFIED:20260416T193659Z
UID:10002638-1830249000-1830250800@kinderhooklibrary.org
SUMMARY:Art Focus Fridays
DESCRIPTION:We will explore a new art medium every week including watercolors\, clay\, fingerpaints\, paper crafts and more! This program has the potential to be messy so please dress little ones in clothes you don’t mind getting dirty! Best for toddlers and pre-schoolers!
URL:https://kinderhooklibrary.org/event/art-focus-fridays-2-2/2027-12-31/
LOCATION:Kinderhook Memorial Library\, 18 Hudson Street\, Kinderhook\, NY\, 12106\, United States
CATEGORIES:Kids
ATTACH;FMTTYPE=image/png:https://kinderhooklibrary.org/wp-content/uploads/2025/12/Copy-of-PlaygroupOctober-300-x-300-px-1080-x-1080-px.png
ORGANIZER;CN="Kinderhook Memorial Library":MAILTO:info@kinderhooklibrary.org
END:VEVENT
BEGIN:VEVENT
DTSTART;TZID=America/New_York:20280106T103000
DTEND;TZID=America/New_York:20280106T120000
DTSTAMP:20260421T052240
CREATED:20231215T200848Z
LAST-MODIFIED:20251223T173612Z
UID:10002380-1830767400-1830772800@kinderhooklibrary.org
SUMMARY:Family Story Time
DESCRIPTION:Join Mandy for stories and songs! All ages welcome!\nPlease note that we do Story Time at 10:30 AND 11:30 am (and not from 10:30 to 12:00\, just to be clear\, thank you!)
URL:https://kinderhooklibrary.org/event/family-story-time/2028-01-06/
LOCATION:Kinderhook Memorial Library\, 18 Hudson Street\, Kinderhook\, NY\, 12106\, United States
CATEGORIES:Kids
ATTACH;FMTTYPE=image/png:https://kinderhooklibrary.org/wp-content/uploads/2025/12/Copy-of-Copy-of-Story-time.png
ORGANIZER;CN="Kinderhook Memorial Library":MAILTO:info@kinderhooklibrary.org
END:VEVENT
BEGIN:VEVENT
DTSTART;TZID=America/New_York:20280107T103000
DTEND;TZID=America/New_York:20280107T110000
DTSTAMP:20260421T052240
CREATED:20251016T160154Z
LAST-MODIFIED:20260416T193659Z
UID:10002639-1830853800-1830855600@kinderhooklibrary.org
SUMMARY:Art Focus Fridays
DESCRIPTION:We will explore a new art medium every week including watercolors\, clay\, fingerpaints\, paper crafts and more! This program has the potential to be messy so please dress little ones in clothes you don’t mind getting dirty! Best for toddlers and pre-schoolers!
URL:https://kinderhooklibrary.org/event/art-focus-fridays-2-2/2028-01-07/
LOCATION:Kinderhook Memorial Library\, 18 Hudson Street\, Kinderhook\, NY\, 12106\, United States
CATEGORIES:Kids
ATTACH;FMTTYPE=image/png:https://kinderhooklibrary.org/wp-content/uploads/2025/12/Copy-of-PlaygroupOctober-300-x-300-px-1080-x-1080-px.png
ORGANIZER;CN="Kinderhook Memorial Library":MAILTO:info@kinderhooklibrary.org
END:VEVENT
BEGIN:VEVENT
DTSTART;TZID=America/New_York:20280113T103000
DTEND;TZID=America/New_York:20280113T120000
DTSTAMP:20260421T052240
CREATED:20231215T200848Z
LAST-MODIFIED:20251223T173612Z
UID:10002381-1831372200-1831377600@kinderhooklibrary.org
SUMMARY:Family Story Time
DESCRIPTION:Join Mandy for stories and songs! All ages welcome!\nPlease note that we do Story Time at 10:30 AND 11:30 am (and not from 10:30 to 12:00\, just to be clear\, thank you!)
URL:https://kinderhooklibrary.org/event/family-story-time/2028-01-13/
LOCATION:Kinderhook Memorial Library\, 18 Hudson Street\, Kinderhook\, NY\, 12106\, United States
CATEGORIES:Kids
ATTACH;FMTTYPE=image/png:https://kinderhooklibrary.org/wp-content/uploads/2025/12/Copy-of-Copy-of-Story-time.png
ORGANIZER;CN="Kinderhook Memorial Library":MAILTO:info@kinderhooklibrary.org
END:VEVENT
BEGIN:VEVENT
DTSTART;TZID=America/New_York:20280114T103000
DTEND;TZID=America/New_York:20280114T110000
DTSTAMP:20260421T052240
CREATED:20251016T160154Z
LAST-MODIFIED:20260416T193659Z
UID:10002640-1831458600-1831460400@kinderhooklibrary.org
SUMMARY:Art Focus Fridays
DESCRIPTION:We will explore a new art medium every week including watercolors\, clay\, fingerpaints\, paper crafts and more! This program has the potential to be messy so please dress little ones in clothes you don’t mind getting dirty! Best for toddlers and pre-schoolers!
URL:https://kinderhooklibrary.org/event/art-focus-fridays-2-2/2028-01-14/
LOCATION:Kinderhook Memorial Library\, 18 Hudson Street\, Kinderhook\, NY\, 12106\, United States
CATEGORIES:Kids
ATTACH;FMTTYPE=image/png:https://kinderhooklibrary.org/wp-content/uploads/2025/12/Copy-of-PlaygroupOctober-300-x-300-px-1080-x-1080-px.png
ORGANIZER;CN="Kinderhook Memorial Library":MAILTO:info@kinderhooklibrary.org
END:VEVENT
BEGIN:VEVENT
DTSTART;TZID=America/New_York:20280120T103000
DTEND;TZID=America/New_York:20280120T120000
DTSTAMP:20260421T052240
CREATED:20231215T200848Z
LAST-MODIFIED:20251223T173612Z
UID:10002382-1831977000-1831982400@kinderhooklibrary.org
SUMMARY:Family Story Time
DESCRIPTION:Join Mandy for stories and songs! All ages welcome!\nPlease note that we do Story Time at 10:30 AND 11:30 am (and not from 10:30 to 12:00\, just to be clear\, thank you!)
URL:https://kinderhooklibrary.org/event/family-story-time/2028-01-20/
LOCATION:Kinderhook Memorial Library\, 18 Hudson Street\, Kinderhook\, NY\, 12106\, United States
CATEGORIES:Kids
ATTACH;FMTTYPE=image/png:https://kinderhooklibrary.org/wp-content/uploads/2025/12/Copy-of-Copy-of-Story-time.png
ORGANIZER;CN="Kinderhook Memorial Library":MAILTO:info@kinderhooklibrary.org
END:VEVENT
BEGIN:VEVENT
DTSTART;TZID=America/New_York:20280121T103000
DTEND;TZID=America/New_York:20280121T110000
DTSTAMP:20260421T052240
CREATED:20251016T160154Z
LAST-MODIFIED:20260416T193659Z
UID:10002641-1832063400-1832065200@kinderhooklibrary.org
SUMMARY:Art Focus Fridays
DESCRIPTION:We will explore a new art medium every week including watercolors\, clay\, fingerpaints\, paper crafts and more! This program has the potential to be messy so please dress little ones in clothes you don’t mind getting dirty! Best for toddlers and pre-schoolers!
URL:https://kinderhooklibrary.org/event/art-focus-fridays-2-2/2028-01-21/
LOCATION:Kinderhook Memorial Library\, 18 Hudson Street\, Kinderhook\, NY\, 12106\, United States
CATEGORIES:Kids
ATTACH;FMTTYPE=image/png:https://kinderhooklibrary.org/wp-content/uploads/2025/12/Copy-of-PlaygroupOctober-300-x-300-px-1080-x-1080-px.png
ORGANIZER;CN="Kinderhook Memorial Library":MAILTO:info@kinderhooklibrary.org
END:VEVENT
BEGIN:VEVENT
DTSTART;TZID=America/New_York:20280127T103000
DTEND;TZID=America/New_York:20280127T120000
DTSTAMP:20260421T052240
CREATED:20231215T200848Z
LAST-MODIFIED:20251223T173612Z
UID:10002383-1832581800-1832587200@kinderhooklibrary.org
SUMMARY:Family Story Time
DESCRIPTION:Join Mandy for stories and songs! All ages welcome!\nPlease note that we do Story Time at 10:30 AND 11:30 am (and not from 10:30 to 12:00\, just to be clear\, thank you!)
URL:https://kinderhooklibrary.org/event/family-story-time/2028-01-27/
LOCATION:Kinderhook Memorial Library\, 18 Hudson Street\, Kinderhook\, NY\, 12106\, United States
CATEGORIES:Kids
ATTACH;FMTTYPE=image/png:https://kinderhooklibrary.org/wp-content/uploads/2025/12/Copy-of-Copy-of-Story-time.png
ORGANIZER;CN="Kinderhook Memorial Library":MAILTO:info@kinderhooklibrary.org
END:VEVENT
BEGIN:VEVENT
DTSTART;TZID=America/New_York:20280128T103000
DTEND;TZID=America/New_York:20280128T110000
DTSTAMP:20260421T052240
CREATED:20251016T160154Z
LAST-MODIFIED:20260416T193659Z
UID:10002642-1832668200-1832670000@kinderhooklibrary.org
SUMMARY:Art Focus Fridays
DESCRIPTION:We will explore a new art medium every week including watercolors\, clay\, fingerpaints\, paper crafts and more! This program has the potential to be messy so please dress little ones in clothes you don’t mind getting dirty! Best for toddlers and pre-schoolers!
URL:https://kinderhooklibrary.org/event/art-focus-fridays-2-2/2028-01-28/
LOCATION:Kinderhook Memorial Library\, 18 Hudson Street\, Kinderhook\, NY\, 12106\, United States
CATEGORIES:Kids
ATTACH;FMTTYPE=image/png:https://kinderhooklibrary.org/wp-content/uploads/2025/12/Copy-of-PlaygroupOctober-300-x-300-px-1080-x-1080-px.png
ORGANIZER;CN="Kinderhook Memorial Library":MAILTO:info@kinderhooklibrary.org
END:VEVENT
BEGIN:VEVENT
DTSTART;TZID=America/New_York:20280203T103000
DTEND;TZID=America/New_York:20280203T120000
DTSTAMP:20260421T052240
CREATED:20231215T200848Z
LAST-MODIFIED:20251223T173612Z
UID:10002384-1833186600-1833192000@kinderhooklibrary.org
SUMMARY:Family Story Time
DESCRIPTION:Join Mandy for stories and songs! All ages welcome!\nPlease note that we do Story Time at 10:30 AND 11:30 am (and not from 10:30 to 12:00\, just to be clear\, thank you!)
URL:https://kinderhooklibrary.org/event/family-story-time/2028-02-03/
LOCATION:Kinderhook Memorial Library\, 18 Hudson Street\, Kinderhook\, NY\, 12106\, United States
CATEGORIES:Kids
ATTACH;FMTTYPE=image/png:https://kinderhooklibrary.org/wp-content/uploads/2025/12/Copy-of-Copy-of-Story-time.png
ORGANIZER;CN="Kinderhook Memorial Library":MAILTO:info@kinderhooklibrary.org
END:VEVENT
BEGIN:VEVENT
DTSTART;TZID=America/New_York:20280204T103000
DTEND;TZID=America/New_York:20280204T110000
DTSTAMP:20260421T052240
CREATED:20251016T160154Z
LAST-MODIFIED:20260416T193659Z
UID:10002643-1833273000-1833274800@kinderhooklibrary.org
SUMMARY:Art Focus Fridays
DESCRIPTION:We will explore a new art medium every week including watercolors\, clay\, fingerpaints\, paper crafts and more! This program has the potential to be messy so please dress little ones in clothes you don’t mind getting dirty! Best for toddlers and pre-schoolers!
URL:https://kinderhooklibrary.org/event/art-focus-fridays-2-2/2028-02-04/
LOCATION:Kinderhook Memorial Library\, 18 Hudson Street\, Kinderhook\, NY\, 12106\, United States
CATEGORIES:Kids
ATTACH;FMTTYPE=image/png:https://kinderhooklibrary.org/wp-content/uploads/2025/12/Copy-of-PlaygroupOctober-300-x-300-px-1080-x-1080-px.png
ORGANIZER;CN="Kinderhook Memorial Library":MAILTO:info@kinderhooklibrary.org
END:VEVENT
BEGIN:VEVENT
DTSTART;TZID=America/New_York:20280210T103000
DTEND;TZID=America/New_York:20280210T120000
DTSTAMP:20260421T052240
CREATED:20231215T200848Z
LAST-MODIFIED:20251223T173612Z
UID:10002385-1833791400-1833796800@kinderhooklibrary.org
SUMMARY:Family Story Time
DESCRIPTION:Join Mandy for stories and songs! All ages welcome!\nPlease note that we do Story Time at 10:30 AND 11:30 am (and not from 10:30 to 12:00\, just to be clear\, thank you!)
URL:https://kinderhooklibrary.org/event/family-story-time/2028-02-10/
LOCATION:Kinderhook Memorial Library\, 18 Hudson Street\, Kinderhook\, NY\, 12106\, United States
CATEGORIES:Kids
ATTACH;FMTTYPE=image/png:https://kinderhooklibrary.org/wp-content/uploads/2025/12/Copy-of-Copy-of-Story-time.png
ORGANIZER;CN="Kinderhook Memorial Library":MAILTO:info@kinderhooklibrary.org
END:VEVENT
BEGIN:VEVENT
DTSTART;TZID=America/New_York:20280211T103000
DTEND;TZID=America/New_York:20280211T110000
DTSTAMP:20260421T052240
CREATED:20251016T160154Z
LAST-MODIFIED:20260416T193659Z
UID:10002644-1833877800-1833879600@kinderhooklibrary.org
SUMMARY:Art Focus Fridays
DESCRIPTION:We will explore a new art medium every week including watercolors\, clay\, fingerpaints\, paper crafts and more! This program has the potential to be messy so please dress little ones in clothes you don’t mind getting dirty! Best for toddlers and pre-schoolers!
URL:https://kinderhooklibrary.org/event/art-focus-fridays-2-2/2028-02-11/
LOCATION:Kinderhook Memorial Library\, 18 Hudson Street\, Kinderhook\, NY\, 12106\, United States
CATEGORIES:Kids
ATTACH;FMTTYPE=image/png:https://kinderhooklibrary.org/wp-content/uploads/2025/12/Copy-of-PlaygroupOctober-300-x-300-px-1080-x-1080-px.png
ORGANIZER;CN="Kinderhook Memorial Library":MAILTO:info@kinderhooklibrary.org
END:VEVENT
BEGIN:VEVENT
DTSTART;TZID=America/New_York:20280217T103000
DTEND;TZID=America/New_York:20280217T120000
DTSTAMP:20260421T052240
CREATED:20231215T200848Z
LAST-MODIFIED:20251223T173612Z
UID:10002386-1834396200-1834401600@kinderhooklibrary.org
SUMMARY:Family Story Time
DESCRIPTION:Join Mandy for stories and songs! All ages welcome!\nPlease note that we do Story Time at 10:30 AND 11:30 am (and not from 10:30 to 12:00\, just to be clear\, thank you!)
URL:https://kinderhooklibrary.org/event/family-story-time/2028-02-17/
LOCATION:Kinderhook Memorial Library\, 18 Hudson Street\, Kinderhook\, NY\, 12106\, United States
CATEGORIES:Kids
ATTACH;FMTTYPE=image/png:https://kinderhooklibrary.org/wp-content/uploads/2025/12/Copy-of-Copy-of-Story-time.png
ORGANIZER;CN="Kinderhook Memorial Library":MAILTO:info@kinderhooklibrary.org
END:VEVENT
BEGIN:VEVENT
DTSTART;TZID=America/New_York:20280218T103000
DTEND;TZID=America/New_York:20280218T110000
DTSTAMP:20260421T052240
CREATED:20251016T160154Z
LAST-MODIFIED:20260416T193659Z
UID:10002645-1834482600-1834484400@kinderhooklibrary.org
SUMMARY:Art Focus Fridays
DESCRIPTION:We will explore a new art medium every week including watercolors\, clay\, fingerpaints\, paper crafts and more! This program has the potential to be messy so please dress little ones in clothes you don’t mind getting dirty! Best for toddlers and pre-schoolers!
URL:https://kinderhooklibrary.org/event/art-focus-fridays-2-2/2028-02-18/
LOCATION:Kinderhook Memorial Library\, 18 Hudson Street\, Kinderhook\, NY\, 12106\, United States
CATEGORIES:Kids
ATTACH;FMTTYPE=image/png:https://kinderhooklibrary.org/wp-content/uploads/2025/12/Copy-of-PlaygroupOctober-300-x-300-px-1080-x-1080-px.png
ORGANIZER;CN="Kinderhook Memorial Library":MAILTO:info@kinderhooklibrary.org
END:VEVENT
BEGIN:VEVENT
DTSTART;TZID=America/New_York:20280224T103000
DTEND;TZID=America/New_York:20280224T120000
DTSTAMP:20260421T052240
CREATED:20231215T200848Z
LAST-MODIFIED:20251223T173612Z
UID:10002387-1835001000-1835006400@kinderhooklibrary.org
SUMMARY:Family Story Time
DESCRIPTION:Join Mandy for stories and songs! All ages welcome!\nPlease note that we do Story Time at 10:30 AND 11:30 am (and not from 10:30 to 12:00\, just to be clear\, thank you!)
URL:https://kinderhooklibrary.org/event/family-story-time/2028-02-24/
LOCATION:Kinderhook Memorial Library\, 18 Hudson Street\, Kinderhook\, NY\, 12106\, United States
CATEGORIES:Kids
ATTACH;FMTTYPE=image/png:https://kinderhooklibrary.org/wp-content/uploads/2025/12/Copy-of-Copy-of-Story-time.png
ORGANIZER;CN="Kinderhook Memorial Library":MAILTO:info@kinderhooklibrary.org
END:VEVENT
BEGIN:VEVENT
DTSTART;TZID=America/New_York:20280225T103000
DTEND;TZID=America/New_York:20280225T110000
DTSTAMP:20260421T052240
CREATED:20251016T160154Z
LAST-MODIFIED:20260416T193659Z
UID:10002646-1835087400-1835089200@kinderhooklibrary.org
SUMMARY:Art Focus Fridays
DESCRIPTION:We will explore a new art medium every week including watercolors\, clay\, fingerpaints\, paper crafts and more! This program has the potential to be messy so please dress little ones in clothes you don’t mind getting dirty! Best for toddlers and pre-schoolers!
URL:https://kinderhooklibrary.org/event/art-focus-fridays-2-2/2028-02-25/
LOCATION:Kinderhook Memorial Library\, 18 Hudson Street\, Kinderhook\, NY\, 12106\, United States
CATEGORIES:Kids
ATTACH;FMTTYPE=image/png:https://kinderhooklibrary.org/wp-content/uploads/2025/12/Copy-of-PlaygroupOctober-300-x-300-px-1080-x-1080-px.png
ORGANIZER;CN="Kinderhook Memorial Library":MAILTO:info@kinderhooklibrary.org
END:VEVENT
BEGIN:VEVENT
DTSTART;TZID=America/New_York:20280302T103000
DTEND;TZID=America/New_York:20280302T120000
DTSTAMP:20260421T052240
CREATED:20231215T200848Z
LAST-MODIFIED:20251223T173612Z
UID:10002388-1835605800-1835611200@kinderhooklibrary.org
SUMMARY:Family Story Time
DESCRIPTION:Join Mandy for stories and songs! All ages welcome!\nPlease note that we do Story Time at 10:30 AND 11:30 am (and not from 10:30 to 12:00\, just to be clear\, thank you!)
URL:https://kinderhooklibrary.org/event/family-story-time/2028-03-02/
LOCATION:Kinderhook Memorial Library\, 18 Hudson Street\, Kinderhook\, NY\, 12106\, United States
CATEGORIES:Kids
ATTACH;FMTTYPE=image/png:https://kinderhooklibrary.org/wp-content/uploads/2025/12/Copy-of-Copy-of-Story-time.png
ORGANIZER;CN="Kinderhook Memorial Library":MAILTO:info@kinderhooklibrary.org
END:VEVENT
BEGIN:VEVENT
DTSTART;TZID=America/New_York:20280303T103000
DTEND;TZID=America/New_York:20280303T110000
DTSTAMP:20260421T052240
CREATED:20251016T160154Z
LAST-MODIFIED:20260416T193659Z
UID:10002647-1835692200-1835694000@kinderhooklibrary.org
SUMMARY:Art Focus Fridays
DESCRIPTION:We will explore a new art medium every week including watercolors\, clay\, fingerpaints\, paper crafts and more! This program has the potential to be messy so please dress little ones in clothes you don’t mind getting dirty! Best for toddlers and pre-schoolers!
URL:https://kinderhooklibrary.org/event/art-focus-fridays-2-2/2028-03-03/
LOCATION:Kinderhook Memorial Library\, 18 Hudson Street\, Kinderhook\, NY\, 12106\, United States
CATEGORIES:Kids
ATTACH;FMTTYPE=image/png:https://kinderhooklibrary.org/wp-content/uploads/2025/12/Copy-of-PlaygroupOctober-300-x-300-px-1080-x-1080-px.png
ORGANIZER;CN="Kinderhook Memorial Library":MAILTO:info@kinderhooklibrary.org
END:VEVENT
BEGIN:VEVENT
DTSTART;TZID=America/New_York:20280309T103000
DTEND;TZID=America/New_York:20280309T120000
DTSTAMP:20260421T052240
CREATED:20231215T200848Z
LAST-MODIFIED:20251223T173612Z
UID:10002389-1836210600-1836216000@kinderhooklibrary.org
SUMMARY:Family Story Time
DESCRIPTION:Join Mandy for stories and songs! All ages welcome!\nPlease note that we do Story Time at 10:30 AND 11:30 am (and not from 10:30 to 12:00\, just to be clear\, thank you!)
URL:https://kinderhooklibrary.org/event/family-story-time/2028-03-09/
LOCATION:Kinderhook Memorial Library\, 18 Hudson Street\, Kinderhook\, NY\, 12106\, United States
CATEGORIES:Kids
ATTACH;FMTTYPE=image/png:https://kinderhooklibrary.org/wp-content/uploads/2025/12/Copy-of-Copy-of-Story-time.png
ORGANIZER;CN="Kinderhook Memorial Library":MAILTO:info@kinderhooklibrary.org
END:VEVENT
BEGIN:VEVENT
DTSTART;TZID=America/New_York:20280310T103000
DTEND;TZID=America/New_York:20280310T110000
DTSTAMP:20260421T052240
CREATED:20251016T160154Z
LAST-MODIFIED:20260416T193659Z
UID:10002648-1836297000-1836298800@kinderhooklibrary.org
SUMMARY:Art Focus Fridays
DESCRIPTION:We will explore a new art medium every week including watercolors\, clay\, fingerpaints\, paper crafts and more! This program has the potential to be messy so please dress little ones in clothes you don’t mind getting dirty! Best for toddlers and pre-schoolers!
URL:https://kinderhooklibrary.org/event/art-focus-fridays-2-2/2028-03-10/
LOCATION:Kinderhook Memorial Library\, 18 Hudson Street\, Kinderhook\, NY\, 12106\, United States
CATEGORIES:Kids
ATTACH;FMTTYPE=image/png:https://kinderhooklibrary.org/wp-content/uploads/2025/12/Copy-of-PlaygroupOctober-300-x-300-px-1080-x-1080-px.png
ORGANIZER;CN="Kinderhook Memorial Library":MAILTO:info@kinderhooklibrary.org
END:VEVENT
BEGIN:VEVENT
DTSTART;TZID=America/New_York:20280316T103000
DTEND;TZID=America/New_York:20280316T120000
DTSTAMP:20260421T052240
CREATED:20231215T200848Z
LAST-MODIFIED:20251223T173612Z
UID:10002390-1836815400-1836820800@kinderhooklibrary.org
SUMMARY:Family Story Time
DESCRIPTION:Join Mandy for stories and songs! All ages welcome!\nPlease note that we do Story Time at 10:30 AND 11:30 am (and not from 10:30 to 12:00\, just to be clear\, thank you!)
URL:https://kinderhooklibrary.org/event/family-story-time/2028-03-16/
LOCATION:Kinderhook Memorial Library\, 18 Hudson Street\, Kinderhook\, NY\, 12106\, United States
CATEGORIES:Kids
ATTACH;FMTTYPE=image/png:https://kinderhooklibrary.org/wp-content/uploads/2025/12/Copy-of-Copy-of-Story-time.png
ORGANIZER;CN="Kinderhook Memorial Library":MAILTO:info@kinderhooklibrary.org
END:VEVENT
END:VCALENDAR